Package: GeomxTools Version: 3.13.1 Command: rm -rf GeomxTools.buildbin-libdir && mkdir GeomxTools.buildbin-libdir && /Users/biocbuild/BBS/utils/build-universal.sh GeomxTools_3.13.1.tar.gz /Library/Frameworks/R.framework/Resources/bin/R GeomxTools.buildbin-libdir StartedAt: 2025-10-28 02:14:04 -0400 (Tue, 28 Oct 2025) EndedAt: 2025-10-28 02:14:48 -0400 (Tue, 28 Oct 2025) EllapsedTime: 43.8 seconds RetCode: 0 Status: OK PackageFile: GeomxTools_3.13.1.tgz PackageFileSize: 15.79 MiB