Package: GeomxTools Version: 3.13.1 Command: rm -rf GeomxTools.buildbin-libdir && mkdir GeomxTools.buildbin-libdir && /Users/biocbuild/BBS/utils/build-universal.sh GeomxTools_3.13.1.tar.gz /Library/Frameworks/R.framework/Resources/bin/R GeomxTools.buildbin-libdir StartedAt: 2025-10-26 22:37:10 -0400 (Sun, 26 Oct 2025) EndedAt: 2025-10-26 22:37:22 -0400 (Sun, 26 Oct 2025) EllapsedTime: 12.2 seconds RetCode: 0 Status: OK PackageFile: GeomxTools_3.13.1.tgz PackageFileSize: 15.8 MiB