Package: GeomxTools Version: 3.13.1 Maintainer: Maddy Griswold MaintainerEmail: mgriswold at nanostring.com git_url: https://git.bioconductor.org/packages/GeomxTools git_branch: devel git_last_commit: 8bb08d5 git_last_commit_date: 2025-09-12 13:22:55 -0400 (Fri, 12 Sep 2025)