Package: GeoTcgaData Version: 2.9.0 Command: /home/biocbuild/R/R/bin/R CMD INSTALL GeoTcgaData StartedAt: 2025-10-23 20:37:40 -0000 (Thu, 23 Oct 2025) EndedAt: 2025-10-23 20:38:24 -0000 (Thu, 23 Oct 2025) EllapsedTime: 44.6 seconds RetCode: 0 Status: OK