Package: GeoTcgaData Version: 2.9.0 Command: /home/biocbuild/R/R/bin/R CMD build --keep-empty-dirs --no-resave-data GeoTcgaData StartedAt: 2025-10-21 00:04:02 -0000 (Tue, 21 Oct 2025) EndedAt: 2025-10-21 00:05:25 -0000 (Tue, 21 Oct 2025) EllapsedTime: 83.0 seconds RetCode: 0 Status: OK PackageFile: GeoTcgaData_2.9.0.tar.gz PackageFileSize: 3.319 MiB