Package: GeoTcgaData Version: 2.9.0 Command: /home/biocbuild/bbs-3.22-bioc/R/bin/R CMD INSTALL GeoTcgaData StartedAt: 2025-10-24 15:28:45 -0400 (Fri, 24 Oct 2025) EndedAt: 2025-10-24 15:29:23 -0400 (Fri, 24 Oct 2025) EllapsedTime: 37.6 seconds RetCode: 0 Status: OK