Package: GeoTcgaData Version: 2.9.0 Command: /home/biocbuild/bbs-3.22-bioc/R/bin/R CMD build --keep-empty-dirs --no-resave-data --md5 GeoTcgaData StartedAt: 2025-10-24 17:59:45 -0400 (Fri, 24 Oct 2025) EndedAt: 2025-10-24 18:00:54 -0400 (Fri, 24 Oct 2025) EllapsedTime: 69.0 seconds RetCode: 0 Status: OK PackageFile: GeoTcgaData_2.9.0.tar.gz PackageFileSize: 3.321 MiB