Package: GeoTcgaData Version: 2.9.0 Command: /Library/Frameworks/R.framework/Resources/bin/R CMD build --keep-empty-dirs --no-resave-data GeoTcgaData StartedAt: 2025-10-24 17:14:17 -0400 (Fri, 24 Oct 2025) EndedAt: 2025-10-24 17:15:38 -0400 (Fri, 24 Oct 2025) EllapsedTime: 80.4 seconds RetCode: 0 Status: OK PackageFile: GeoTcgaData_2.9.0.tar.gz PackageFileSize: 3.318 MiB