Package: GeoTcgaData Version: 2.9.0 Command: rm -rf GeoTcgaData.buildbin-libdir && mkdir GeoTcgaData.buildbin-libdir && /Users/biocbuild/BBS/utils/build-universal.sh GeoTcgaData_2.9.0.tar.gz /Library/Frameworks/R.framework/Resources/bin/R GeoTcgaData.buildbin-libdir StartedAt: 2025-10-25 01:42:19 -0400 (Sat, 25 Oct 2025) EndedAt: 2025-10-25 01:43:14 -0400 (Sat, 25 Oct 2025) EllapsedTime: 55.0 seconds RetCode: 0 Status: OK PackageFile: GeoTcgaData_2.9.0.tgz PackageFileSize: 3.423 MiB