Package: GeoTcgaData Version: 2.9.0 Command: rm -rf GeoTcgaData.buildbin-libdir && mkdir GeoTcgaData.buildbin-libdir && /Users/biocbuild/BBS/utils/build-universal.sh GeoTcgaData_2.9.0.tar.gz /Library/Frameworks/R.framework/Resources/bin/R GeoTcgaData.buildbin-libdir StartedAt: 2025-10-24 23:04:39 -0400 (Fri, 24 Oct 2025) EndedAt: 2025-10-24 23:04:57 -0400 (Fri, 24 Oct 2025) EllapsedTime: 18.4 seconds RetCode: 0 Status: OK PackageFile: GeoTcgaData_2.9.0.tgz PackageFileSize: 3.426 MiB