Package: GeoDiff Version: 1.15.0 Command: /home/biocbuild/R/R/bin/R CMD INSTALL GeoDiff StartedAt: 2025-10-23 20:35:55 -0000 (Thu, 23 Oct 2025) EndedAt: 2025-10-23 20:38:05 -0000 (Thu, 23 Oct 2025) EllapsedTime: 130.6 seconds RetCode: 0 Status: OK