Package: GeoDiff Version: 1.15.0 Command: /home/biocbuild/R/R/bin/R CMD build --keep-empty-dirs --no-resave-data GeoDiff StartedAt: 2025-10-21 00:02:32 -0000 (Tue, 21 Oct 2025) EndedAt: 2025-10-21 00:08:29 -0000 (Tue, 21 Oct 2025) EllapsedTime: 356.1 seconds RetCode: 0 Status: OK PackageFile: GeoDiff_1.15.0.tar.gz PackageFileSize: 4.395 MiB