Package: GeoDiff Version: 1.15.0 Command: /home/biocbuild/bbs-3.22-bioc/R/bin/R CMD check --install=check:GeoDiff.install-out.txt --library=/home/biocbuild/bbs-3.22-bioc/R/site-library --timings GeoDiff_1.15.0.tar.gz StartedAt: 2025-10-28 00:03:18 -0400 (Tue, 28 Oct 2025) EndedAt: 2025-10-28 00:10:34 -0400 (Tue, 28 Oct 2025) EllapsedTime: 435.6 seconds RetCode: 0 Status: OK CheckDir: GeoDiff.Rcheck Warnings: 0