Package: GeoDiff Version: 1.15.0 Command: /home/biocbuild/bbs-3.22-bioc/R/bin/R CMD build --keep-empty-dirs --no-resave-data --md5 GeoDiff StartedAt: 2025-10-24 17:58:48 -0400 (Fri, 24 Oct 2025) EndedAt: 2025-10-24 18:02:48 -0400 (Fri, 24 Oct 2025) EllapsedTime: 240.2 seconds RetCode: 0 Status: OK PackageFile: GeoDiff_1.15.0.tar.gz PackageFileSize: 4.542 MiB