Package: GeoDiff Version: 1.15.0 Command: /Library/Frameworks/R.framework/Resources/bin/R CMD INSTALL GeoDiff StartedAt: 2025-10-24 15:26:30 -0400 (Fri, 24 Oct 2025) EndedAt: 2025-10-24 15:28:08 -0400 (Fri, 24 Oct 2025) EllapsedTime: 97.9 seconds RetCode: 0 Status: OK