Package: GeoDiff Version: 1.15.0 Command: /Library/Frameworks/R.framework/Resources/bin/R CMD build --keep-empty-dirs --no-resave-data GeoDiff StartedAt: 2025-10-24 17:13:51 -0400 (Fri, 24 Oct 2025) EndedAt: 2025-10-24 17:18:15 -0400 (Fri, 24 Oct 2025) EllapsedTime: 264.2 seconds RetCode: 0 Status: OK PackageFile: GeoDiff_1.15.0.tar.gz PackageFileSize: 4.581 MiB