Package: GeoDiff Version: 1.15.0 Command: /Library/Frameworks/R.framework/Resources/bin/R CMD build --keep-empty-dirs --no-resave-data GeoDiff StartedAt: 2025-10-24 16:33:15 -0400 (Fri, 24 Oct 2025) EndedAt: 2025-10-24 16:34:45 -0400 (Fri, 24 Oct 2025) EllapsedTime: 89.9 seconds RetCode: 0 Status: OK PackageFile: GeoDiff_1.15.0.tar.gz PackageFileSize: 4.58 MiB