Package: GeoDiff Version: 1.15.0 Command: rm -rf GeoDiff.buildbin-libdir && mkdir GeoDiff.buildbin-libdir && /Users/biocbuild/BBS/utils/build-universal.sh GeoDiff_1.15.0.tar.gz /Library/Frameworks/R.framework/Resources/bin/R GeoDiff.buildbin-libdir StartedAt: 2025-10-24 23:04:34 -0400 (Fri, 24 Oct 2025) EndedAt: 2025-10-24 23:05:00 -0400 (Fri, 24 Oct 2025) EllapsedTime: 26.6 seconds RetCode: 0 Status: OK PackageFile: GeoDiff_1.15.0.tgz PackageFileSize: 4.799 MiB