Package: GenomicSuperSignature Version: 1.17.1 Command: /home/biocbuild/bbs-3.22-bioc/R/bin/R CMD build --keep-empty-dirs --no-resave-data --md5 GenomicSuperSignature StartedAt: 2025-10-24 17:58:32 -0400 (Fri, 24 Oct 2025) EndedAt: 2025-10-24 18:01:28 -0400 (Fri, 24 Oct 2025) EllapsedTime: 176.1 seconds RetCode: 0 Status: OK PackageFile: GenomicSuperSignature_1.17.1.tar.gz PackageFileSize: 6.297 MiB