Package: GenomicRanges Version: 1.61.6 Command: /home/biocbuild/bbs-3.22-bioc/R/bin/R CMD INSTALL GenomicRanges StartedAt: 2025-10-24 15:25:23 -0400 (Fri, 24 Oct 2025) EndedAt: 2025-10-24 15:25:43 -0400 (Fri, 24 Oct 2025) EllapsedTime: 20.2 seconds RetCode: 0 Status: OK