Package: GenomicPlot Version: 1.7.2 Command: /home/biocbuild/bbs-3.22-bioc/R/bin/R CMD INSTALL GenomicPlot StartedAt: 2025-10-24 15:55:37 -0400 (Fri, 24 Oct 2025) EndedAt: 2025-10-24 15:56:29 -0400 (Fri, 24 Oct 2025) EllapsedTime: 51.8 seconds RetCode: 0 Status: OK