Package: GenomicPlot Version: 1.8.0 Command: /Library/Frameworks/R.framework/Resources/bin/R CMD INSTALL GenomicPlot StartedAt: 2025-11-03 15:43:45 -0500 (Mon, 03 Nov 2025) EndedAt: 2025-11-03 15:44:56 -0500 (Mon, 03 Nov 2025) EllapsedTime: 71.7 seconds RetCode: 0 Status: OK