Package: GenomicPlot Version: 1.8.0 Command: /Library/Frameworks/R.framework/Resources/bin/R CMD build --keep-empty-dirs --no-resave-data GenomicPlot StartedAt: 2025-11-03 17:09:48 -0500 (Mon, 03 Nov 2025) EndedAt: 2025-11-03 17:12:39 -0500 (Mon, 03 Nov 2025) EllapsedTime: 170.8 seconds RetCode: 0 Status: OK PackageFile: GenomicPlot_1.8.0.tar.gz PackageFileSize: 4.095 MiB