Package: GenomicPlot Version: 1.8.0 Command: rm -rf GenomicPlot.buildbin-libdir && mkdir GenomicPlot.buildbin-libdir && /Users/biocbuild/BBS/utils/build-universal.sh GenomicPlot_1.8.0.tar.gz /Library/Frameworks/R.framework/Resources/bin/R GenomicPlot.buildbin-libdir StartedAt: 2025-11-04 01:42:04 -0500 (Tue, 04 Nov 2025) EndedAt: 2025-11-04 01:43:23 -0500 (Tue, 04 Nov 2025) EllapsedTime: 78.8 seconds RetCode: 0 Status: OK PackageFile: GenomicPlot_1.8.0.tgz PackageFileSize: 4.243 MiB