Package: GenomicPlot Version: 1.7.2 Command: /Library/Frameworks/R.framework/Resources/bin/R CMD INSTALL GenomicPlot StartedAt: 2025-10-24 15:25:16 -0400 (Fri, 24 Oct 2025) EndedAt: 2025-10-24 15:25:38 -0400 (Fri, 24 Oct 2025) EllapsedTime: 21.4 seconds RetCode: 0 Status: OK