Package: GenomicPlot Version: 1.7.2 Command: /Library/Frameworks/R.framework/Resources/bin/R CMD build --keep-empty-dirs --no-resave-data GenomicPlot StartedAt: 2025-10-24 16:32:34 -0400 (Fri, 24 Oct 2025) EndedAt: 2025-10-24 16:33:32 -0400 (Fri, 24 Oct 2025) EllapsedTime: 57.6 seconds RetCode: 0 Status: OK PackageFile: GenomicPlot_1.7.2.tar.gz PackageFileSize: 4.097 MiB