Package: GenomicPlot Version: 1.7.2 Command: rm -rf GenomicPlot.buildbin-libdir && mkdir GenomicPlot.buildbin-libdir && /Users/biocbuild/BBS/utils/build-universal.sh GenomicPlot_1.7.2.tar.gz /Library/Frameworks/R.framework/Resources/bin/R GenomicPlot.buildbin-libdir StartedAt: 2025-10-24 23:04:23 -0400 (Fri, 24 Oct 2025) EndedAt: 2025-10-24 23:04:46 -0400 (Fri, 24 Oct 2025) EllapsedTime: 23.4 seconds RetCode: 0 Status: OK PackageFile: GenomicPlot_1.7.2.tgz PackageFileSize: 4.248 MiB