Package: GenomicInteractions Version: 1.43.1 Command: /home/biocbuild/bbs-3.22-bioc/R/bin/R CMD INSTALL GenomicInteractions StartedAt: 2025-10-24 16:00:46 -0400 (Fri, 24 Oct 2025) EndedAt: 2025-10-24 16:02:13 -0400 (Fri, 24 Oct 2025) EllapsedTime: 87.1 seconds RetCode: 0 Status: OK