Package: GenomicInteractions Version: 1.43.1 Command: /home/biocbuild/bbs-3.22-bioc/R/bin/R CMD build --keep-empty-dirs --no-resave-data --md5 GenomicInteractions StartedAt: 2025-10-24 17:58:12 -0400 (Fri, 24 Oct 2025) EndedAt: 2025-10-24 18:01:12 -0400 (Fri, 24 Oct 2025) EllapsedTime: 180.2 seconds RetCode: 0 Status: OK PackageFile: GenomicInteractions_1.43.1.tar.gz PackageFileSize: 3.482 MiB