Package: GenomicInteractionNodes Version: 1.13.1 Command: /home/biocbuild/bbs-3.22-bioc/R/bin/R CMD check --install=check:GenomicInteractionNodes.install-out.txt --library=/home/biocbuild/bbs-3.22-bioc/R/site-library --timings GenomicInteractionNodes_1.13.1.tar.gz StartedAt: 2025-10-25 00:01:26 -0400 (Sat, 25 Oct 2025) EndedAt: 2025-10-25 00:09:04 -0400 (Sat, 25 Oct 2025) EllapsedTime: 458.4 seconds RetCode: 0 Status: OK CheckDir: GenomicInteractionNodes.Rcheck Warnings: 0