Package: GenomicInteractionNodes Version: 1.13.1 Command: /Library/Frameworks/R.framework/Resources/bin/R CMD INSTALL GenomicInteractionNodes StartedAt: 2025-10-24 15:43:20 -0400 (Fri, 24 Oct 2025) EndedAt: 2025-10-24 15:44:06 -0400 (Fri, 24 Oct 2025) EllapsedTime: 45.9 seconds RetCode: 0 Status: OK