Package: GenomicInteractionNodes Version: 1.13.1 Command: rm -rf GenomicInteractionNodes.buildbin-libdir && mkdir GenomicInteractionNodes.buildbin-libdir && /Users/biocbuild/BBS/utils/build-universal.sh GenomicInteractionNodes_1.13.1.tar.gz /Library/Frameworks/R.framework/Resources/bin/R GenomicInteractionNodes.buildbin-libdir StartedAt: 2025-10-25 01:42:04 -0400 (Sat, 25 Oct 2025) EndedAt: 2025-10-25 01:42:53 -0400 (Sat, 25 Oct 2025) EllapsedTime: 49.2 seconds RetCode: 0 Status: OK PackageFile: GenomicInteractionNodes_1.13.1.tgz PackageFileSize: 273.7 KiB