Package: GenomicInteractionNodes Version: 1.13.1 Command: /Library/Frameworks/R.framework/Resources/bin/R CMD build --keep-empty-dirs --no-resave-data GenomicInteractionNodes StartedAt: 2025-10-24 16:32:22 -0400 (Fri, 24 Oct 2025) EndedAt: 2025-10-24 16:33:07 -0400 (Fri, 24 Oct 2025) EllapsedTime: 45.5 seconds RetCode: 0 Status: OK PackageFile: GenomicInteractionNodes_1.13.1.tar.gz PackageFileSize: 248.4 KiB