Package: GenomicInteractionNodes Version: 1.13.1 Command: rm -rf GenomicInteractionNodes.buildbin-libdir && mkdir GenomicInteractionNodes.buildbin-libdir && /Users/biocbuild/BBS/utils/build-universal.sh GenomicInteractionNodes_1.13.1.tar.gz /Library/Frameworks/R.framework/Resources/bin/R GenomicInteractionNodes.buildbin-libdir StartedAt: 2025-10-24 23:04:21 -0400 (Fri, 24 Oct 2025) EndedAt: 2025-10-24 23:04:36 -0400 (Fri, 24 Oct 2025) EllapsedTime: 15.3 seconds RetCode: 0 Status: OK PackageFile: GenomicInteractionNodes_1.13.1.tgz PackageFileSize: 274.1 KiB