Package: GenomicFiles Version: 1.46.0 Command: /home/biocbuild/bbs-3.22-bioc/R/bin/R CMD check --install=check:GenomicFiles.install-out.txt --library=/home/biocbuild/bbs-3.22-bioc/R/site-library --timings GenomicFiles_1.46.0.tar.gz StartedAt: 2025-11-03 00:08:27 -0500 (Mon, 03 Nov 2025) EndedAt: 2025-11-03 00:15:10 -0500 (Mon, 03 Nov 2025) EllapsedTime: 402.3 seconds RetCode: 0 Status: OK CheckDir: GenomicFiles.Rcheck Warnings: 0