Package: GenomicFiles Version: 1.45.2 Command: /home/biocbuild/bbs-3.22-bioc/R/bin/R CMD build --keep-empty-dirs --no-resave-data --md5 GenomicFiles StartedAt: 2025-10-24 17:57:37 -0400 (Fri, 24 Oct 2025) EndedAt: 2025-10-24 17:58:48 -0400 (Fri, 24 Oct 2025) EllapsedTime: 71.1 seconds RetCode: 0 Status: OK PackageFile: GenomicFiles_1.45.2.tar.gz PackageFileSize: 713.9 KiB