Package: GenomicFiles Version: 1.45.2 Command: /Library/Frameworks/R.framework/Resources/bin/R CMD INSTALL GenomicFiles StartedAt: 2025-10-24 15:56:52 -0400 (Fri, 24 Oct 2025) EndedAt: 2025-10-24 15:57:47 -0400 (Fri, 24 Oct 2025) EllapsedTime: 55.3 seconds RetCode: 0 Status: OK