Package: GenomicFiles Version: 1.45.2 Command: /Library/Frameworks/R.framework/Resources/bin/R CMD INSTALL GenomicFiles StartedAt: 2025-10-26 15:29:12 -0400 (Sun, 26 Oct 2025) EndedAt: 2025-10-26 15:29:28 -0400 (Sun, 26 Oct 2025) EllapsedTime: 16.5 seconds RetCode: 0 Status: OK