Package: GenomicFiles Version: 1.45.2 Command: /Library/Frameworks/R.framework/Resources/bin/R CMD build --keep-empty-dirs --no-resave-data GenomicFiles StartedAt: 2025-10-26 16:34:37 -0400 (Sun, 26 Oct 2025) EndedAt: 2025-10-26 16:35:07 -0400 (Sun, 26 Oct 2025) EllapsedTime: 30.3 seconds RetCode: 0 Status: OK PackageFile: GenomicFiles_1.45.2.tar.gz PackageFileSize: 712.7 KiB