Package: GenomicFiles Version: 1.45.2 Command: rm -rf GenomicFiles.buildbin-libdir && mkdir GenomicFiles.buildbin-libdir && /Users/biocbuild/BBS/utils/build-universal.sh GenomicFiles_1.45.2.tar.gz /Library/Frameworks/R.framework/Resources/bin/R GenomicFiles.buildbin-libdir StartedAt: 2025-10-26 22:36:57 -0400 (Sun, 26 Oct 2025) EndedAt: 2025-10-26 22:37:15 -0400 (Sun, 26 Oct 2025) EllapsedTime: 17.4 seconds RetCode: 0 Status: OK PackageFile: GenomicFiles_1.45.2.tgz PackageFileSize: 1.005 MiB