Package: GenomicFeatures Version: 1.61.7 Command: /home/biocbuild/bbs-3.22-bioc/R/bin/R CMD INSTALL GenomicFeatures StartedAt: 2025-10-24 15:49:09 -0400 (Fri, 24 Oct 2025) EndedAt: 2025-10-24 15:49:45 -0400 (Fri, 24 Oct 2025) EllapsedTime: 36.3 seconds RetCode: 0 Status: OK