Package: GenomicFeatures Version: 1.61.8 Command: /Library/Frameworks/R.framework/Resources/bin/R CMD INSTALL GenomicFeatures StartedAt: 2025-10-28 15:35:22 -0400 (Tue, 28 Oct 2025) EndedAt: 2025-10-28 15:36:12 -0400 (Tue, 28 Oct 2025) EllapsedTime: 50.5 seconds RetCode: 0 Status: OK