Package: GenomicFeatures Version: 1.61.8 Command: /Library/Frameworks/R.framework/Resources/bin/R CMD build --keep-empty-dirs --no-resave-data GenomicFeatures StartedAt: 2025-10-28 17:07:26 -0400 (Tue, 28 Oct 2025) EndedAt: 2025-10-28 17:09:45 -0400 (Tue, 28 Oct 2025) EllapsedTime: 138.3 seconds RetCode: 0 Status: OK PackageFile: GenomicFeatures_1.61.8.tar.gz PackageFileSize: 558.7 KiB