Package: GenomicFeatures Version: 1.61.7 Command: /Library/Frameworks/R.framework/Resources/bin/R CMD INSTALL GenomicFeatures StartedAt: 2025-10-24 15:22:40 -0400 (Fri, 24 Oct 2025) EndedAt: 2025-10-24 15:22:55 -0400 (Fri, 24 Oct 2025) EllapsedTime: 15.3 seconds RetCode: 0 Status: OK