Package: GenomicFeatures Version: 1.61.7 Command: /Library/Frameworks/R.framework/Resources/bin/R CMD build --keep-empty-dirs --no-resave-data GenomicFeatures StartedAt: 2025-10-24 16:32:11 -0400 (Fri, 24 Oct 2025) EndedAt: 2025-10-24 16:33:01 -0400 (Fri, 24 Oct 2025) EllapsedTime: 50.5 seconds RetCode: 0 Status: OK PackageFile: GenomicFeatures_1.61.7.tar.gz PackageFileSize: 558.8 KiB