Package: GenomicFeatures Version: 1.61.7 Command: rm -rf GenomicFeatures.buildbin-libdir && mkdir GenomicFeatures.buildbin-libdir && /Users/biocbuild/BBS/utils/build-universal.sh GenomicFeatures_1.61.7.tar.gz /Library/Frameworks/R.framework/Resources/bin/R GenomicFeatures.buildbin-libdir StartedAt: 2025-10-24 23:04:18 -0400 (Fri, 24 Oct 2025) EndedAt: 2025-10-24 23:04:35 -0400 (Fri, 24 Oct 2025) EllapsedTime: 16.3 seconds RetCode: 0 Status: OK PackageFile: GenomicFeatures_1.61.7.tgz PackageFileSize: 1.359 MiB