Package: GenomicFeatures Version: 1.61.7 Maintainer: H. Pagès MaintainerEmail: hpages.on.github at gmail.com git_url: https://git.bioconductor.org/packages/GenomicFeatures git_branch: devel git_last_commit: 86cef6e git_last_commit_date: 2025-10-22 01:31:40 -0400 (Wed, 22 Oct 2025)