Package: GenomicDistributions Version: 1.17.1 Command: /home/biocbuild/R/R/bin/R CMD INSTALL GenomicDistributions StartedAt: 2025-10-23 20:34:45 -0000 (Thu, 23 Oct 2025) EndedAt: 2025-10-23 20:35:06 -0000 (Thu, 23 Oct 2025) EllapsedTime: 20.7 seconds RetCode: 0 Status: OK