Package: GenomicDistributions Version: 1.17.1 Command: /home/biocbuild/R/R/bin/R CMD build --keep-empty-dirs --no-resave-data GenomicDistributions StartedAt: 2025-10-20 23:59:11 -0000 (Mon, 20 Oct 2025) EndedAt: 2025-10-21 00:00:50 -0000 (Tue, 21 Oct 2025) EllapsedTime: 99.0 seconds RetCode: 0 Status: OK PackageFile: GenomicDistributions_1.17.1.tar.gz PackageFileSize: 5.248 MiB