Package: GenomicDistributions Version: 1.17.1 Command: /home/biocbuild/bbs-3.22-bioc/R/bin/R CMD build --keep-empty-dirs --no-resave-data --md5 GenomicDistributions StartedAt: 2025-10-24 17:57:12 -0400 (Fri, 24 Oct 2025) EndedAt: 2025-10-24 17:58:20 -0400 (Fri, 24 Oct 2025) EllapsedTime: 68.1 seconds RetCode: 0 Status: OK PackageFile: GenomicDistributions_1.17.1.tar.gz PackageFileSize: 6.24 MiB